
BEGIN:VCALENDAR
VERSION:2.0
PRODID:-//China Poker Games//CPG Championship Final Sanya 2025//“Msport” Deepstack Turbo//EN
BEGIN:VEVENT
UID:01000000-a9fe-0a58-a639-08ddd9bf8d1b
DTSTAMP;TZID=Asia/Beijing:20250827T170000
DTSTART;TZID=Asia/Beijing:20250827T170000
DTEND;TZID=Asia/Beijing:20250827T235959
SUMMARY:“Msport” Deepstack Turbo
DESCRIPTION:Game: Texas Hold'em (NL)\nBuy-In: 4 +  Side Event Vouchers\nStack: 25,000\nLevels: 20 min
LOCATION:Howard Johnson Resort Sanya Bay, Sanya, China
END:VEVENT
END:VCALENDAR
