
BEGIN:VCALENDAR
VERSION:2.0
PRODID:-//Taiwan Millions Tournament//TMT Championship 2025//Kick-Off//EN
BEGIN:VEVENT
UID:01000000-a9fe-0a58-c767-08de01a6ec89
DTSTAMP;TZID=Asia/Taipei:20251018T130000
DTSTART;TZID=Asia/Taipei:20251018T130000
DTEND;TZID=Asia/Taipei:20251019T235959
SUMMARY:Kick-Off
DESCRIPTION:Featured\nGame: Texas Hold'em (NL)\nBuy-In: 8,800 + 1,200 TWD\nGTD: 3,000,000 TWD\nStack: 25,000
LOCATION:CTP Asia Poker Arena, Taipei City, Taiwan
END:VEVENT
END:VCALENDAR
