
BEGIN:VCALENDAR
VERSION:2.0
PRODID:-//Ace Poker League//Ace Poker League Osaka 2025//6max Championship//EN
BEGIN:VEVENT
UID:01000000-a9fe-0a58-650c-08dd8280b561
DTSTAMP;TZID=Asia/Tokyo:20250502T210000
DTSTART;TZID=Asia/Tokyo:20250502T210000
DTEND;TZID=Asia/Tokyo:20250502T235959
SUMMARY:6max Championship
DESCRIPTION:Game: Texas Hold'em (NL)\nBuy-In: 15,000 +  JPY\nStack: 25,000\nLate Reg: @ 23:30
LOCATION:Dojima River Forum, Osaka, Japan
END:VEVENT
END:VCALENDAR
