
BEGIN:VCALENDAR
VERSION:2.0
PRODID:-//Asia Pacific Poker Tour//APPT Championship 2026//PLO Super Knockout [₱10K Bounty]//EN
BEGIN:VEVENT
UID:01000000-3971-2ef2-97f3-08de90b46ba3
DTSTAMP;TZID=Asia/Manila:20261012T180000
DTSTART;TZID=Asia/Manila:20261012T180000
DTEND;TZID=Asia/Manila:20261012T235959
SUMMARY:PLO Super Knockout [₱10K Bounty]
DESCRIPTION:Game: Omaha (PL)\nBuy-In: 17,296 + 2,704 PHP\nStack: 25,000\nLevels: 20 min\nLate Reg: @ 20:50
LOCATION:Okada Manila, Manila, Philippines
END:VEVENT
END:VCALENDAR
