
BEGIN:VCALENDAR
VERSION:2.0
PRODID:-//Vietnam Poker Tour//VPT Championship II 2025//MINI MAIN EVENT//EN
BEGIN:VEVENT
UID:01000000-a9fe-0a58-d944-08dde64e4715
DTSTAMP;TZID=Asia/Hanoi:20251107T130000
DTSTART;TZID=Asia/Hanoi:20251107T130000
DTEND;TZID=Asia/Hanoi:20251108T235959
SUMMARY:MINI MAIN EVENT
DESCRIPTION:Featured\nGame: null (null)\nBuy-In: 10,800,000 + 1,200,000 VND\nGTD: 1,500,000,000 VND\nStack: 40,000
LOCATION:Corona Casino and Resort, Phú Quốc, Viet Nam
END:VEVENT
END:VCALENDAR
