
BEGIN:VCALENDAR
VERSION:2.0
PRODID:-//Jeju Poker Festival//Jeju Poker Festival 2025//5 Card PLO High//EN
BEGIN:VEVENT
UID:01000000-a9fe-0a58-96ca-08ddefa3d409
DTSTAMP;TZID=Asia/Seoul:20251104T210000
DTSTART;TZID=Asia/Seoul:20251104T210000
DTEND;TZID=Asia/Seoul:20251104T235959
SUMMARY:5 Card PLO High
DESCRIPTION:Game: Omaha (PL)\nBuy-In: 340,000 + 60,000 KRW\nStack: 20,000\nLevels: 10 min\nLate Reg: 8 lvl @ 22:35
LOCATION:LES A Casino, Jeju, South Korea
END:VEVENT
END:VCALENDAR
