
BEGIN:VCALENDAR
VERSION:2.0
PRODID:-//Vietnam Poker Tour//VPT Championship II 2025//VPT CHAMPIONSHIP//EN
BEGIN:VEVENT
UID:01000000-a9fe-0a58-d092-08dde64e4a6c
DTSTAMP;TZID=Asia/Hanoi:20251107T130000
DTSTART;TZID=Asia/Hanoi:20251107T130000
DTEND;TZID=Asia/Hanoi:20251110T235959
SUMMARY:VPT CHAMPIONSHIP
DESCRIPTION:Featured\nGame: null (null)\nBuy-In: 45,000,000 + 5,000,000 VND\nGTD: 6,000,000,000 VND\nStack: 50,000
LOCATION:Corona Casino and Resort, Phú Quốc, Viet Nam
END:VEVENT
END:VCALENDAR
