
BEGIN:VCALENDAR
VERSION:2.0
PRODID:-//Poker Dream//Poker Dream 22 Jeju//PL Omaha Masters//EN
BEGIN:VEVENT
UID:01000000-3971-2ef2-e9ce-08de9a1d16b5
DTSTAMP;TZID=Asia/Seoul:20260506T140000
DTSTART;TZID=Asia/Seoul:20260506T140000
DTEND;TZID=Asia/Seoul:20260506T235959
SUMMARY:PL Omaha Masters
DESCRIPTION:Game: Omaha (PL)\nBuy-In: 1,365,000 + 135,000 KRW\nStack: 30,000\nLevels: 30 min\nLate Reg: 10 lvl @ 19:30
LOCATION:LES A Casino, Jeju, South Korea
END:VEVENT
END:VCALENDAR
