
BEGIN:VCALENDAR
VERSION:2.0
PRODID:-//World Poker Games//WPG Taiwan 2026//High Roller Single Day//EN
BEGIN:VEVENT
UID:01000000-4909-3915-f535-08de9c6bd2b2
DTSTAMP;TZID=Asia/Taipei:20260529T113000
DTSTART;TZID=Asia/Taipei:20260529T113000
DTEND;TZID=Asia/Taipei:20260529T235959
SUMMARY:High Roller Single Day
DESCRIPTION:Game: Texas Hold'em (NL)\nBuy-In: 27,000 + 3,000 TWD\nGTD: 500,000 TWD\nStack: 100,000\nLevels: 30 min\nLate Reg: 13 lvl @  18:15
LOCATION:CTP Asia Poker Arena, Taipei City, Taiwan
END:VEVENT
END:VCALENDAR
