
BEGIN:VCALENDAR
VERSION:2.0
PRODID:-//Asia Pacific Poker Tour//APPT Championship 2026//8 Handed//EN
BEGIN:VEVENT
UID:01000000-3971-2ef2-4ad4-08de90b46b98
DTSTAMP;TZID=Asia/Manila:20261012T160000
DTSTART;TZID=Asia/Manila:20261012T160000
DTEND;TZID=Asia/Manila:20261012T235959
SUMMARY:8 Handed
DESCRIPTION:Game: Texas Hold'em (NL)\nBuy-In: 12,672 + 2,328 PHP\nStack: 20,000\nLevels: 20 min\nLate Reg: @ 18:10
LOCATION:Okada Manila, Manila, Philippines
END:VEVENT
END:VCALENDAR
