
BEGIN:VCALENDAR
VERSION:2.0
PRODID:-//Poker Dream//Poker Dream Malaysia 15//Single Day High Roller//EN
BEGIN:VEVENT
UID:01000000-a9fe-0a58-58ee-08dd2fac9584
DTSTAMP;TZID=Asia/Kuala_Lumpur:20250123T130000
DTSTART;TZID=Asia/Kuala_Lumpur:20250123T130000
DTEND;TZID=Asia/Kuala_Lumpur:20250123T235959
SUMMARY:Single Day High Roller
DESCRIPTION:Game: Texas Hold'em (NL)\nBuy-In: 8,211 + 1,789 MYR
LOCATION:Resorts World Genting, Malaysia, Pahang, Malaysia
END:VEVENT
END:VCALENDAR
