
BEGIN:VCALENDAR
VERSION:2.0
PRODID:-//Asia Pacific Poker Tour//APPT Championship 2026//SHR Warm Up//EN
BEGIN:VEVENT
UID:01000000-3971-2ef2-e0d0-08de90b46c09
DTSTAMP;TZID=Asia/Manila:20261012T130000
DTSTART;TZID=Asia/Manila:20261012T130000
DTEND;TZID=Asia/Manila:20261013T235959
SUMMARY:SHR Warm Up
DESCRIPTION:Game: Texas Hold'em (NL)\nBuy-In: 86,400 + 13,600 PHP\nStack: 250,000
LOCATION:Okada Manila, Manila, Philippines
END:VEVENT
END:VCALENDAR
