
BEGIN:VCALENDAR
VERSION:2.0
PRODID:-//Jeju Poker Festival//Jeju Poker Festival 2025//NLH Bounty Hyper Turbo //EN
BEGIN:VEVENT
UID:01000000-a9fe-0a58-82fb-08ddefa3d374
DTSTAMP;TZID=Asia/Seoul:20251104T180000
DTSTART;TZID=Asia/Seoul:20251104T180000
DTEND;TZID=Asia/Seoul:20251104T235959
SUMMARY:NLH Bounty Hyper Turbo 
DESCRIPTION:Game: Texas Hold'em (NL)\nBuy-In: 425,000 + 75,000 KRW\nStack: 20,000\nLevels: 10 min\nLate Reg: 8 lvl
LOCATION:LES A Casino, Jeju, South Korea
END:VEVENT
END:VCALENDAR
