
BEGIN:VCALENDAR
VERSION:2.0
PRODID:-//Asia Pacific Poker Tour//APPT Championship 2026//PokerStars Red Dragon//EN
BEGIN:VEVENT
UID:01000000-3971-2ef2-ef49-08de90b46d04
DTSTAMP;TZID=Asia/Manila:20261012T130000
DTSTART;TZID=Asia/Manila:20261012T130000
DTEND;TZID=Asia/Manila:20261015T235959
SUMMARY:PokerStars Red Dragon
DESCRIPTION:Featured\nGame: Texas Hold'em (NL)\nBuy-In: 43,200 + 6,800 PHP\nGTD: 15,000,000 PHP\nStack: 30,000
LOCATION:Okada Manila, Manila, Philippines
END:VEVENT
END:VCALENDAR
