
BEGIN:VCALENDAR
VERSION:2.0
PRODID:-//Poker Dream//Poker Dream 22 Jeju//NLH - Bounty Quattro - Turbo//EN
BEGIN:VEVENT
UID:01000000-3971-2ef2-e4c3-08de9a1d1653
DTSTAMP;TZID=Asia/Seoul:20260505T220000
DTSTART;TZID=Asia/Seoul:20260505T220000
DTEND;TZID=Asia/Seoul:20260505T235959
SUMMARY:NLH - Bounty Quattro - Turbo
DESCRIPTION:Game: Texas Hold'em (NL)\nBuy-In: 546,000 + 54,000 KRW\nStack: 15,000\nLevels: 15 min\nLate Reg: 7 lvl @ 00:00
LOCATION:LES A Casino, Jeju, South Korea
END:VEVENT
END:VCALENDAR
