
BEGIN:VCALENDAR
VERSION:2.0
PRODID:-//U Series Championship//U Series Champ. Osaka Q2 2026//Morning Deep//EN
BEGIN:VEVENT
UID:01000000-3971-2ef2-9038-08de91633a6b
DTSTAMP;TZID=Asia/Tokyo:20260503T100000
DTSTART;TZID=Asia/Tokyo:20260503T100000
DTEND;TZID=Asia/Tokyo:20260503T235959
SUMMARY:Morning Deep
DESCRIPTION:Game: Texas Hold'em (NL)\nBuy-In: 10,000 +  JPY\nStack: 30,000\nLevels: 20 min\nLate Reg: @ 13:00
LOCATION:Dojima River Forum, Osaka, Japan
END:VEVENT
END:VCALENDAR
