
BEGIN:VCALENDAR
VERSION:2.0
PRODID:-//World Poker Games//WPG Taiwan 2026//Mini High Roller Turbo//EN
BEGIN:VEVENT
UID:01000000-4909-3915-8e10-08de9c6bd26b
DTSTAMP;TZID=Asia/Taipei:20260528T180000
DTSTART;TZID=Asia/Taipei:20260528T180000
DTEND;TZID=Asia/Taipei:20260528T235959
SUMMARY:Mini High Roller Turbo
DESCRIPTION:Game: Texas Hold'em (NL)\nBuy-In: 19,800 + 2,200 TWD\nStack: 100,000\nLevels: 15 min\nLate Reg: 13 lvl @  21:15
LOCATION:CTP Asia Poker Arena, Taipei City, Taiwan
END:VEVENT
END:VCALENDAR
