
BEGIN:VCALENDAR
VERSION:2.0
PRODID:-//Asia Pacific Poker Tour//APPT Championship 2026//Super Structure NLH//EN
BEGIN:VEVENT
UID:01000000-3971-2ef2-2e78-08de90b46bdc
DTSTAMP;TZID=Asia/Manila:20261012T130000
DTSTART;TZID=Asia/Manila:20261012T130000
DTEND;TZID=Asia/Manila:20261013T235959
SUMMARY:Super Structure NLH
DESCRIPTION:Game: Texas Hold'em (NL)\nBuy-In: 12,672 + 2,328 PHP\nStack: 50,000
LOCATION:Okada Manila, Manila, Philippines
END:VEVENT
END:VCALENDAR
