
BEGIN:VCALENDAR
VERSION:2.0
PRODID:-//Royal Poker Tour//RPT Championship III//RPT SUPER STAR CHALLENGE//EN
BEGIN:VEVENT
UID:01000000-4909-3915-1422-08de9ed6e423
DTSTAMP;TZID=Asia/Hanoi:20260608T130000
DTSTART;TZID=Asia/Hanoi:20260608T130000
DTEND;TZID=Asia/Hanoi:20260609T235959
SUMMARY:RPT SUPER STAR CHALLENGE
DESCRIPTION:Featured\nGame: Texas Hold'em (NL)\nBuy-In: 11,100,000 + 9,000,000 VND\nGTD: 3,000,000,000 VND\nStack: 300,000
LOCATION:Royal Poker Club, Hanoi, Viet Nam
END:VEVENT
END:VCALENDAR
