
BEGIN:VCALENDAR
VERSION:2.0
PRODID:-//World Poker Games//World Poker Games Taiwan 2026//PLO 5 - Turbo//EN
BEGIN:VEVENT
UID:01000000-4909-3915-3a18-08de9c6bd260
DTSTAMP;TZID=Asia/Taipei:20260528T160000
DTSTART;TZID=Asia/Taipei:20260528T160000
DTEND;TZID=Asia/Taipei:20260528T235959
SUMMARY:PLO 5 - Turbo
DESCRIPTION:Game: Omaha (PL)\nBuy-In: 4,400 + 600 TWD\nStack: 20,000\nLevels: 15 min\nLate Reg: 9 lvl @  18:10
LOCATION:CTP Asia Poker Arena, Taipei City, Taiwan
END:VEVENT
END:VCALENDAR
