
BEGIN:VCALENDAR
VERSION:2.0
PRODID:-//Asia Pacific Poker Tour//APPT Manila 2025//Knockout [₱5K Bounty] - Turbo //EN
BEGIN:VEVENT
UID:01000000-a9fe-0a58-d4ee-08dda2a1dc8e
DTSTAMP;TZID=Asia/Manila:20250727T200000
DTSTART;TZID=Asia/Manila:20250727T200000
DTEND;TZID=Asia/Manila:20250727T235959
SUMMARY:Knockout [₱5K Bounty] - Turbo 
DESCRIPTION:Game: Texas Hold'em (NL)\nBuy-In: 15,000 +  PHP\nStack: 20,000\nLevels: 15 min\nLate Reg: 8 lvl @ 22:10
LOCATION:Okada Manila, Manila, Philippines
END:VEVENT
END:VCALENDAR
