
BEGIN:VCALENDAR
VERSION:2.0
PRODID:-//World Poker Games//World Poker Games Taiwan 2026//WPG Main Event//EN
BEGIN:VEVENT
UID:01000000-4909-3915-f2ce-08de9c6bd3b5
DTSTAMP;TZID=Asia/Taipei:20260528T130000
DTSTART;TZID=Asia/Taipei:20260528T130000
DTEND;TZID=Asia/Taipei:20260531T235959
SUMMARY:WPG Main Event
DESCRIPTION:Main Event\nFeatured\nGame: Texas Hold'em (NL)\nBuy-In: 19,800 + 2,200 TWD\nGTD: 10,000,000 TWD\nStack: 40,000
LOCATION:CTP Asia Poker Arena, Taipei City, Taiwan
END:VEVENT
END:VCALENDAR
