
BEGIN:VCALENDAR
VERSION:2.0
PRODID:-//Asia Pacific Poker Tour//APPT Championship 2026//PokerStars Red Dragon Qualifier - WYS@80K//EN
BEGIN:VEVENT
UID:01000000-3971-2ef2-40e3-08de90b46b47
DTSTAMP;TZID=Asia/Manila:20261011T210000
DTSTART;TZID=Asia/Manila:20261011T210000
DTEND;TZID=Asia/Manila:20261011T235959
SUMMARY:PokerStars Red Dragon Qualifier - WYS@80K
DESCRIPTION:Game: Texas Hold'em (NL)\nBuy-In: 6,252 + 1,148 PHP\nStack: 10,000\nLevels: 12 min\nLate Reg: @ 22:36
LOCATION:Okada Manila, Manila, Philippines
END:VEVENT
END:VCALENDAR
