
BEGIN:VCALENDAR
VERSION:2.0
PRODID:-//Asian Poker Tour//APT Jeju South Korea 2025//PL Omaha High//EN
BEGIN:VEVENT
UID:01000000-a9fe-0a58-ce6e-08ddb488f204
DTSTAMP;TZID=Asia/Seoul:20250929T113000
DTSTART;TZID=Asia/Seoul:20250929T113000
DTEND;TZID=Asia/Seoul:20250929T235959
SUMMARY:PL Omaha High
DESCRIPTION:Game: Omaha (PL)\nBuy-In: 700,000 +  KRW\nLate Reg: @ 16:10
LOCATION:LES A Casino, Jeju, South Korea
END:VEVENT
END:VCALENDAR
