
BEGIN:VCALENDAR
VERSION:2.0
PRODID:-//Poker Dream//Poker Dream 22 Jeju//PL Omaha//EN
BEGIN:VEVENT
UID:01000000-3971-2ef2-e8e0-08de9a1d161b
DTSTAMP;TZID=Asia/Seoul:20260505T163000
DTSTART;TZID=Asia/Seoul:20260505T163000
DTEND;TZID=Asia/Seoul:20260505T235959
SUMMARY:PL Omaha
DESCRIPTION:Game: Omaha (PL)\nBuy-In: 546,000 + 54,000 KRW\nStack: 20,000\nLevels: 20 min\nLate Reg: 8 lvl @ 19:25
LOCATION:LES A Casino, Jeju, South Korea
END:VEVENT
END:VCALENDAR
