
BEGIN:VCALENDAR
VERSION:2.0
PRODID:-//Royal Poker Tour//RPT Championship III//RPT TIGER CUP//EN
BEGIN:VEVENT
UID:01000000-4909-3915-a968-08de9ed6e4bd
DTSTAMP;TZID=Asia/Hanoi:20260608T130000
DTSTART;TZID=Asia/Hanoi:20260608T130000
DTEND;TZID=Asia/Hanoi:20260610T235959
SUMMARY:RPT TIGER CUP
DESCRIPTION:Featured\nGame: Texas Hold'em (NL)\nBuy-In: 20,000,000 + 2,000,000 VND\nGTD: 5,000,000,000 VND\nStack: 30,000
LOCATION:Royal Poker Club, Hanoi, Viet Nam
END:VEVENT
END:VCALENDAR
