
BEGIN:VCALENDAR
VERSION:2.0
PRODID:-//Asian Poker Tour//APT Jeju South Korea 2025//NL - Holdem - Freezeout//EN
BEGIN:VEVENT
UID:01000000-a9fe-0a58-bbc6-08ddb488f1cd
DTSTAMP;TZID=Asia/Seoul:20250929T111500
DTSTART;TZID=Asia/Seoul:20250929T111500
DTEND;TZID=Asia/Seoul:20250929T235959
SUMMARY:NL - Holdem - Freezeout
DESCRIPTION:Game: Texas Hold'em (NL)\nBuy-In: 1,300,000 +  KRW\nLate Reg: @ 15:55
LOCATION:LES A Casino, Jeju, South Korea
END:VEVENT
END:VCALENDAR
