
BEGIN:VCALENDAR
VERSION:2.0
PRODID:-//Asia Pacific Poker Tour//APPT Championship 2026//APPT National Qualifier Hyper - WYS@60K//EN
BEGIN:VEVENT
UID:01000000-3971-2ef2-7a2d-08de90b46b2c
DTSTAMP;TZID=Asia/Manila:20261011T180000
DTSTART;TZID=Asia/Manila:20261011T180000
DTEND;TZID=Asia/Manila:20261011T235959
SUMMARY:APPT National Qualifier Hyper - WYS@60K
DESCRIPTION:Game: Texas Hold'em (NL)\nBuy-In: 4,900 + 900 PHP\nStack: 10,000\nLevels: 10 min\nLate Reg: @ 19:00
LOCATION:Okada Manila, Manila, Philippines
END:VEVENT
END:VCALENDAR
