
BEGIN:VCALENDAR
VERSION:2.0
PRODID:-//Jeju Poker Festival//Jeju Poker Festival 2025//9 Game//EN
BEGIN:VEVENT
UID:01000000-a9fe-0a58-379a-08ddefa3d24a
DTSTAMP;TZID=Asia/Seoul:20251104T130000
DTSTART;TZID=Asia/Seoul:20251104T130000
DTEND;TZID=Asia/Seoul:20251104T235959
SUMMARY:9 Game
DESCRIPTION:Game: Texas Hold'em (NL)\nBuy-In: 880,000 + 120,000 KRW\nStack: 40,000\nLevels: 20 min\nLate Reg: 8 lvl @ 16:50
LOCATION:LES A Casino, Jeju, South Korea
END:VEVENT
END:VCALENDAR
