
BEGIN:VCALENDAR
VERSION:2.0
PRODID:-//Asia Pacific Poker Tour//APPT Championship 2026//Turbo//EN
BEGIN:VEVENT
UID:01000000-3971-2ef2-0f7d-08de90b46b20
DTSTAMP;TZID=Asia/Manila:20261011T160000
DTSTART;TZID=Asia/Manila:20261011T160000
DTEND;TZID=Asia/Manila:20261011T235959
SUMMARY:Turbo
DESCRIPTION:Game: Texas Hold'em (NL)\nBuy-In: 12,672 + 2,328 PHP\nStack: 20,000\nLevels: 15 min\nLate Reg: @ 17:55
LOCATION:Okada Manila, Manila, Philippines
END:VEVENT
END:VCALENDAR
