
BEGIN:VCALENDAR
VERSION:2.0
PRODID:-//World Poker Games//World Poker Games Taiwan 2026//Night Rush Hold'em//EN
BEGIN:VEVENT
UID:01000000-4909-3915-014a-08de9c6bd21b
DTSTAMP;TZID=Asia/Taipei:20260527T213000
DTSTART;TZID=Asia/Taipei:20260527T213000
DTEND;TZID=Asia/Taipei:20260527T235959
SUMMARY:Night Rush Hold'em
DESCRIPTION:Game: Texas Hold'em (NL)\nBuy-In: 2,550 + 450 TWD\nStack: 18,000\nLevels: 10 min\nLate Reg: 9 lvl @  23:00
LOCATION:CTP Asia Poker Arena, Taipei City, Taiwan
END:VEVENT
END:VCALENDAR
