
BEGIN:VCALENDAR
VERSION:2.0
PRODID:-//Poker Dream//Poker Dream 18 Malaysia//High Roller//EN
BEGIN:VEVENT
UID:01000000-a9fe-0a58-71e7-08ddb607cd73
DTSTAMP;TZID=Asia/Kuala_Lumpur:20250811T150000
DTSTART;TZID=Asia/Kuala_Lumpur:20250811T150000
DTEND;TZID=Asia/Kuala_Lumpur:20250812T235959
SUMMARY:High Roller
DESCRIPTION:Featured\nGame: Texas Hold'em (NL)\nBuy-In: 12,316 + 2,684 MYR\nStack: 300,000\nLevels: 40 min
LOCATION:Resorts World Genting, Malaysia, Pahang, Malaysia
END:VEVENT
END:VCALENDAR
