
BEGIN:VCALENDAR
VERSION:2.0
PRODID:-//World Poker Games//World Poker Games Taiwan 2026//PLO - Hyper Turbo //EN
BEGIN:VEVENT
UID:01000000-4909-3915-84a1-08de9c6bd1f7
DTSTAMP;TZID=Asia/Taipei:20260527T180000
DTSTART;TZID=Asia/Taipei:20260527T180000
DTEND;TZID=Asia/Taipei:20260527T235959
SUMMARY:PLO - Hyper Turbo 
DESCRIPTION:Game: Omaha (PL)\nBuy-In: 3,400 + 600 TWD\nStack: 20,000\nLevels: 10 min\nLate Reg: 9 lvl @  19:30
LOCATION:CTP Asia Poker Arena, Taipei City, Taiwan
END:VEVENT
END:VCALENDAR
