
BEGIN:VCALENDAR
VERSION:2.0
PRODID:-//World Poker Games//World Poker Games Taiwan 2026//Super Star Challenge//EN
BEGIN:VEVENT
UID:01000000-4909-3915-9f2a-08de9c6bd075
DTSTAMP;TZID=Asia/Taipei:20260523T130000
DTSTART;TZID=Asia/Taipei:20260523T130000
DTEND;TZID=Asia/Taipei:20260524T235959
SUMMARY:Super Star Challenge
DESCRIPTION:Featured\nGame: Texas Hold'em (NL)\nBuy-In: 70,000 + 7,000 TWD\nGTD: 1,500,000 TWD\nStack: 250,000
LOCATION:CTP Asia Poker Arena, Taipei City, Taiwan
END:VEVENT
END:VCALENDAR
