
BEGIN:VCALENDAR
VERSION:2.0
PRODID:-//European Poker Tour//EPT Prague 2025//Senior's (50 Years or Older)//EN
BEGIN:VEVENT
UID:01000000-a9fe-0a58-49c0-08de2ffbb8d7
DTSTAMP;TZID=Europe/Prague:20251203T130000
DTSTART;TZID=Europe/Prague:20251203T130000
DTEND;TZID=Europe/Prague:20251204T235959
SUMMARY:Senior's (50 Years or Older)
DESCRIPTION:Game: Texas Hold'em (NL)\nBuy-In: 500 + 50 EUR\nStack: 30,000
LOCATION:King’s Casino Prague, Prague, Czech Republic
END:VEVENT
END:VCALENDAR
