
BEGIN:VCALENDAR
VERSION:2.0
PRODID:-//PokerStars Live//Manila Megastack 23//NLH//EN
BEGIN:VEVENT
UID:01000000-a9fe-0a58-c4d9-08de14aa3387
DTSTAMP;TZID=Asia/Manila:20251127T180000
DTSTART;TZID=Asia/Manila:20251127T180000
DTEND;TZID=Asia/Manila:20251127T235959
SUMMARY:NLH
DESCRIPTION:Game: Texas Hold'em (NL)\nBuy-In: 7,040 + 960 PHP\nStack: 25,000\nLevels: 20 min\nLate Reg: 8 lvl @ 21:00
LOCATION:Okada Manila, Manila, Philippines
END:VEVENT
END:VCALENDAR
