
BEGIN:VCALENDAR
VERSION:2.0
PRODID:-//The Singapore Poker Championships//SPC XX//Mystery Bounty//EN
BEGIN:VEVENT
UID:01000000-002c-8d50-feca-08de68d8376c
DTSTAMP;TZID=Asia/Singapore:20260308T130000
DTSTART;TZID=Asia/Singapore:20260308T130000
DTEND;TZID=Asia/Singapore:20260308T235959
SUMMARY:Mystery Bounty
DESCRIPTION:Game: Texas Hold'em (NL)\nBuy-In: 350 + 50 SGD
LOCATION:MV Aegean Paradise, Singapore, Singapore
END:VEVENT
END:VCALENDAR
