
BEGIN:VCALENDAR
VERSION:2.0
PRODID:-//China Poker Games//CPG Championship Final Sanya 2025//“Msport” Regular NLH //EN
BEGIN:VEVENT
UID:01000000-a9fe-0a58-0b92-08ddd9bf782d
DTSTAMP;TZID=Asia/Beijing:20250820T160000
DTSTART;TZID=Asia/Beijing:20250820T160000
DTEND;TZID=Asia/Beijing:20250820T235959
SUMMARY:“Msport” Regular NLH 
DESCRIPTION:Game: Texas Hold'em (NL)\nBuy-In: 5 +  Side Event Vouchers\nStack: 20,000\nLevels: 30 min
LOCATION:Howard Johnson Resort Sanya Bay, Sanya, China
END:VEVENT
END:VCALENDAR
