
BEGIN:VCALENDAR
VERSION:2.0
PRODID:-//U Series Championship//U Series Champ. Osaka Q2 2026//Deepstack//EN
BEGIN:VEVENT
UID:01000000-3971-2ef2-19e2-08de916338d2
DTSTAMP;TZID=Asia/Tokyo:20260429T160000
DTSTART;TZID=Asia/Tokyo:20260429T160000
DTEND;TZID=Asia/Tokyo:20260429T235959
SUMMARY:Deepstack
DESCRIPTION:Game: Texas Hold'em (NL)\nBuy-In: 22,000 +  JPY\nStack: 40,000\nLevels: 25 min\nLate Reg: @ 19:40
LOCATION:Dojima River Forum, Osaka, Japan
END:VEVENT
END:VCALENDAR
