
BEGIN:VCALENDAR
VERSION:2.0
PRODID:-//Asia Pacific Poker Tour//APPT Championship 2026//Six Handed High Roller//EN
BEGIN:VEVENT
UID:01000000-3971-2ef2-94cb-08de90b46afd
DTSTAMP;TZID=Asia/Manila:20261011T130000
DTSTART;TZID=Asia/Manila:20261011T130000
DTEND;TZID=Asia/Manila:20261011T235959
SUMMARY:Six Handed High Roller
DESCRIPTION:Game: Texas Hold'em (NL)\nBuy-In: 88,320 + 11,680 PHP\nStack: 100,000\nLevels: 30 min\nLate Reg: @ 18:30
LOCATION:Okada Manila, Manila, Philippines
END:VEVENT
END:VCALENDAR
