
BEGIN:VCALENDAR
VERSION:2.0
PRODID:-//Royal Poker Tour//RPT Championship II//RPT SUPER STAR CHALLENGE//EN
BEGIN:VEVENT
UID:01000000-3fa8-b42d-c748-08de6e39f8e3
DTSTAMP;TZID=Asia/Hanoi:20260324T130000
DTSTART;TZID=Asia/Hanoi:20260324T130000
DTEND;TZID=Asia/Hanoi:20260325T235959
SUMMARY:RPT SUPER STAR CHALLENGE
DESCRIPTION:Featured\nGame: Texas Hold'em (NL)\nBuy-In: 80,000,000 + 8,000,000 VND\nGTD: 3,000,000,000 VND\nStack: 300,000
LOCATION:Royal Poker Club, Hanoi, Viet Nam
END:VEVENT
END:VCALENDAR
