
BEGIN:VCALENDAR
VERSION:2.0
PRODID:-//Taiwan Millions Tournament//Taiwan Millions Tournament TMT 18//Poker Queen//EN
BEGIN:VEVENT
UID:01000000-a9fe-0a58-2621-08dda4fd8716
DTSTAMP;TZID=Asia/Taipei:20250721T130000
DTSTART;TZID=Asia/Taipei:20250721T130000
DTEND;TZID=Asia/Taipei:20250721T235959
SUMMARY:Poker Queen
DESCRIPTION:Game: Texas Hold'em (NL)\nBuy-In: 6,800 + 1,200 TWD\nStack: 25,000\nLevels: 25 min\nLate Reg: 8 lvl @ 16:50
LOCATION:Red Space, Taipei, Taiwan
END:VEVENT
END:VCALENDAR
