
BEGIN:VCALENDAR
VERSION:2.0
PRODID:-//U Series Championship//U Series Champ. Osaka Q2 2026//PLO Championship//EN
BEGIN:VEVENT
UID:01000000-3971-2ef2-d162-08de91633a28
DTSTAMP;TZID=Asia/Tokyo:20260502T140000
DTSTART;TZID=Asia/Tokyo:20260502T140000
DTEND;TZID=Asia/Tokyo:20260502T235959
SUMMARY:PLO Championship
DESCRIPTION:Game: Omaha (PL)\nBuy-In: 30,000 +  JPY\nStack: 60,000\nLevels: 30 min\nLate Reg: @ 18:20
LOCATION:Dojima River Forum, Osaka, Japan
END:VEVENT
END:VCALENDAR
