
BEGIN:VCALENDAR
VERSION:2.0
PRODID:-//All Japan Poker Championship// AJPC Samurai Circuit - Incheon 2026//Main Event//EN
BEGIN:VEVENT
UID:01000000-792d-c53e-9ad0-08de6b277c43
DTSTAMP;TZID=Asia/Seoul:20260418T130000
DTSTART;TZID=Asia/Seoul:20260418T130000
DTEND;TZID=Asia/Seoul:20260419T235959
SUMMARY:Main Event
DESCRIPTION:Main Event\nFeatured\nGame: Texas Hold'em (NL)\nBuy-In: 1,500,000 + 150,000 KRW
LOCATION:Paradise City Incheon, Incheon, South Korea
END:VEVENT
END:VCALENDAR
