
BEGIN:VCALENDAR
VERSION:2.0
PRODID:-//World Poker Games//World Poker Games Taiwan 2026//High Roller Special//EN
BEGIN:VEVENT
UID:01000000-4909-3915-bc47-08de9c6bd23c
DTSTAMP;TZID=Asia/Taipei:20260527T130000
DTSTART;TZID=Asia/Taipei:20260527T130000
DTEND;TZID=Asia/Taipei:20260528T235959
SUMMARY:High Roller Special
DESCRIPTION:Featured\nGame: Texas Hold'em (NL)\nBuy-In: 50,000 + 5,000 TWD\nGTD: 1,000,000 TWD\nStack: 250,000\nLevels: 40 min\nLate Reg: 13 lvl @  13:35
LOCATION:CTP Asia Poker Arena, Taipei City, Taiwan
END:VEVENT
END:VCALENDAR
