
BEGIN:VCALENDAR
VERSION:2.0
PRODID:-//World Poker Games//World Poker Games Taiwan 2026//Super Stack//EN
BEGIN:VEVENT
UID:01000000-4909-3915-5445-08de9c6bd1d5
DTSTAMP;TZID=Asia/Taipei:20260527T133000
DTSTART;TZID=Asia/Taipei:20260527T133000
DTEND;TZID=Asia/Taipei:20260527T235959
SUMMARY:Super Stack
DESCRIPTION:Game: Texas Hold'em (NL)\nBuy-In: 5,100 + 900 TWD\nStack: 50,000\nLevels: 20 min\nLate Reg: 11 lvl @  17:20
LOCATION:CTP Asia Poker Arena, Taipei City, Taiwan
END:VEVENT
END:VCALENDAR
