
BEGIN:VCALENDAR
VERSION:2.0
PRODID:-//Royal Poker Tour//RPT Championship II//SUPER DEEPSTACK//EN
BEGIN:VEVENT
UID:01000000-3fa8-b42d-4d16-08de6e39f886
DTSTAMP;TZID=Asia/Hanoi:20260324T113000
DTSTART;TZID=Asia/Hanoi:20260324T113000
DTEND;TZID=Asia/Hanoi:20260324T235959
SUMMARY:SUPER DEEPSTACK
DESCRIPTION:Game: Texas Hold'em (NL)\nBuy-In: 10,000,000 + 1,000,000 VND\nStack: 50,000\nLevels: 35 min\nLate Reg: 12 lvl @ 18:30
LOCATION:Royal Poker Club, Hanoi, Viet Nam
END:VEVENT
END:VCALENDAR
