
BEGIN:VCALENDAR
VERSION:2.0
PRODID:-//Grand Loyal Poker Championship//Grand Loyal Poker Championship IV - 2026//SUPER DEEPSTACK//EN
BEGIN:VEVENT
UID:01000000-3971-2ef2-3345-08de82664563
DTSTAMP;TZID=Asia/Hanoi:20260423T150000
DTSTART;TZID=Asia/Hanoi:20260423T150000
DTEND;TZID=Asia/Hanoi:20260423T235959
SUMMARY:SUPER DEEPSTACK
DESCRIPTION:Game: Texas Hold'em (NL)\nBuy-In: 5,000,000 + 500,000 VND\nGTD: 120,000,000 VND\nStack: 30,000\nLevels: 25 min\nLate Reg: 11 lvl @ 19:30
LOCATION:Grand Loyal Poker Club, Hanoi, Viet Nam
END:VEVENT
END:VCALENDAR
