
BEGIN:VCALENDAR
VERSION:2.0
PRODID:-//Ace Poker League//Ace Poker League Osaka 2025//Final Lap//EN
BEGIN:VEVENT
UID:01000000-a9fe-0a58-ba82-08dd8280bb5a
DTSTAMP;TZID=Asia/Tokyo:20250506T160000
DTSTART;TZID=Asia/Tokyo:20250506T160000
DTEND;TZID=Asia/Tokyo:20250506T235959
SUMMARY:Final Lap
DESCRIPTION:Game: Texas Hold'em (NL)\nBuy-In: 13,000 +  JPY\nStack: 30,000\nLate Reg: @ 18:30
LOCATION:Dojima River Forum, Osaka, Japan
END:VEVENT
END:VCALENDAR
