
BEGIN:VCALENDAR
VERSION:2.0
PRODID:-//Jeju Poker Festival//Jeju Poker Festival 2025//Big Bet Mix//EN
BEGIN:VEVENT
UID:01000000-a9fe-0a58-6c80-08ddefa3d0b7
DTSTAMP;TZID=Asia/Seoul:20251103T200000
DTSTART;TZID=Asia/Seoul:20251103T200000
DTEND;TZID=Asia/Seoul:20251103T235959
SUMMARY:Big Bet Mix
DESCRIPTION:Game: Texas Hold'em (NL)\nBuy-In: 425,000 + 75,000 KRW\nStack: 20,000\nLevels: 15 min\nLate Reg: 8 lvl
LOCATION:LES A Casino, Jeju, South Korea
END:VEVENT
END:VCALENDAR
